BEGIN:VCALENDAR
VERSION:2.0
PRODID:-//KAUZ - ECPv6.15.20//NONSGML v1.0//EN
CALSCALE:GREGORIAN
METHOD:PUBLISH
X-WR-CALNAME:KAUZ
X-ORIGINAL-URL:https://kauz-online.de
X-WR-CALDESC:Veranstaltungen für KAUZ
REFRESH-INTERVAL;VALUE=DURATION:PT1H
X-Robots-Tag:noindex
X-PUBLISHED-TTL:PT1H
BEGIN:VTIMEZONE
TZID:UTC
BEGIN:STANDARD
TZOFFSETFROM:+0000
TZOFFSETTO:+0000
TZNAME:UTC
DTSTART:20240101T000000
END:STANDARD
END:VTIMEZONE
BEGIN:VEVENT
DTSTART;TZID=UTC:20260410T080000
DTEND;TZID=UTC:20260410T223000
DTSTAMP:20260424T110500
CREATED:20250528T085226Z
LAST-MODIFIED:20250528T085822Z
UID:1236-1775808000-1775860200@kauz-online.de
SUMMARY:Spiegelberger Kulturfrühling "Wenn der Kauz Singt"
DESCRIPTION:Jens Heckermann „Wenn der Kauz singt“ \nEinem grösseren Publikum ist er bekannt als stimmgewaltiger Publikumsmagnet „Pelvis“ der bundesweit erfolgreichen A-Cappella Gruppe Füenf ( www.fuenf.com ). \nZeigt er sich bei Füenf auch von seiner Komikerseite\, tritt nun der Ausnahmesänger in den Vordergrund und es zieht ihn zu seinen Wurzeln zurück: Ein Mann\, eine Gitarre\, ein imaginäres Lagerfeuer und eine außergewöhnlich wandelbare Stimme\, die ihresgleichen sucht. \nWas er weiterhin mitbringt\, ist seine Leutseligkeit\, seine Liebe zu Geschichten und seine fulminante Stimme. \nIm Programm tummeln sich Seite an Seite\, Welthits von Tom Waits\, Robert Johnson\, Bruce Springsteen\, Bob Marley über Liedern von Songwritern wie Alela Delane\, Foy Vance\, bis hin zu seinen eigenen ausdrucksstarken deutschsprachigen Liedern. \nJedes Lied gestaltet der preisgekrönte Sänger zu einem unvergleichlichen Ereignis. Gerade noch weht einem bei einem Piratenlied der warme Wind der Südsee um die Nase\, verführt er einen sobald in die kalten Nächte der Großstadt\, danach zu einem intensiven\, intimen Liebeslied\, kurz darauf hört man die Wölfe der Wildnis heulen. \nJens Heckermann alias „Kauz“ schafft es so\, das Publikum auch mit Geschichten um diese Lieder zu einer einzigartigen\, fantastischen Gedankenreise in seinen Bann zu ziehen.  \nFanden die ersten Abende draußen statt\, transportiert er nun sein Programm „Wenn der Kauz singt“ auf die Theater\, -Kleinkunst- und Clubbühnen der Nation. \nBühne frei für „Einen der besten Sänger Deutschlands“ ( SZ ) \nJens Heckermann alias Kauz 
URL:https://kauz-online.de/event/wenn-der-kauz-singt-2/
ATTACH;FMTTYPE=image/jpeg:https://kauz-online.de/wp-content/uploads/2025/04/Kauz_DSC6428-scaled.jpg
END:VEVENT
BEGIN:VEVENT
DTSTART;TZID=UTC:20251206T193000
DTEND;TZID=UTC:20251206T223000
DTSTAMP:20260424T110500
CREATED:20250528T084952Z
LAST-MODIFIED:20250528T090258Z
UID:1233-1765049400-1765060200@kauz-online.de
SUMMARY:Bürgerhaus Botnang "Wenn der Kauz Singt"
DESCRIPTION:Jens Heckermann „Wenn der Kauz singt“ \nEinem grösseren Publikum ist er bekannt als stimmgewaltiger Publikumsmagnet „Pelvis“ der bundesweit erfolgreichen A-Cappella Gruppe Füenf ( www.fuenf.com ). \nZeigt er sich bei Füenf auch von seiner Komikerseite\, tritt nun der Ausnahmesänger in den Vordergrund und es zieht ihn zu seinen Wurzeln zurück: Ein Mann\, eine Gitarre\, ein imaginäres Lagerfeuer und eine außergewöhnlich wandelbare Stimme\, die ihresgleichen sucht. \nWas er weiterhin mitbringt\, ist seine Leutseligkeit\, seine Liebe zu Geschichten und seine fulminante Stimme. \nIm Programm tummeln sich Seite an Seite\, Welthits von Tom Waits\, Robert Johnson\, Bruce Springsteen\, Bob Marley über Liedern von Songwritern wie Alela Delane\, Foy Vance\, bis hin zu seinen eigenen ausdrucksstarken deutschsprachigen Liedern. \nJedes Lied gestaltet der preisgekrönte Sänger zu einem unvergleichlichen Ereignis. Gerade noch weht einem bei einem Piratenlied der warme Wind der Südsee um die Nase\, verführt er einen sobald in die kalten Nächte der Großstadt\, danach zu einem intensiven\, intimen Liebeslied\, kurz darauf hört man die Wölfe der Wildnis heulen. \nJens Heckermann alias „Kauz“ schafft es so\, das Publikum auch mit Geschichten um diese Lieder zu einer einzigartigen\, fantastischen Gedankenreise in seinen Bann zu ziehen.  \nFanden die ersten Abende draußen statt\, transportiert er nun sein Programm „Wenn der Kauz singt“ auf die Theater\, -Kleinkunst- und Clubbühnen der Nation. \nBühne frei für „Einen der besten Sänger Deutschlands“ ( SZ ) \nJens Heckermann alias Kauz 
URL:https://kauz-online.de/event/wenn-der-kauz-singt/
LOCATION:Bürgerhaus Botnang\, Griegstraße 18\, 70195 Stuttgart
ATTACH;FMTTYPE=image/jpeg:https://kauz-online.de/wp-content/uploads/2022/09/Galerie-82.jpg
END:VEVENT
BEGIN:VEVENT
DTSTART;TZID=UTC:20250821T080000
DTEND;TZID=UTC:20250821T223000
DTSTAMP:20260424T110500
CREATED:20250528T084647Z
LAST-MODIFIED:20250528T084647Z
UID:1230-1755763200-1755815400@kauz-online.de
SUMMARY:Lagerfeuerabend " Wenn der Kauz singt "
DESCRIPTION:Jens Heckermann „Wenn der Kauz singt“ \nEinem grösseren Publikum ist er bekannt als stimmgewaltiger Publikumsmagnet „Pelvis“ der bundesweit erfolgreichen A-Cappella Gruppe Füenf ( www.fuenf.com ). \nZeigt er sich bei Füenf auch von seiner Komikerseite\, tritt nun der Ausnahmesänger in den Vordergrund und es zieht ihn zu seinen Wurzeln zurück: Ein Mann\, eine Gitarre\, ein imaginäres Lagerfeuer und eine außergewöhnlich wandelbare Stimme\, die ihresgleichen sucht. \nWas er weiterhin mitbringt\, ist seine Leutseligkeit\, seine Liebe zu Geschichten und seine fulminante Stimme. \nIm Programm tummeln sich Seite an Seite\, Welthits von Tom Waits\, Robert Johnson\, Bruce Springsteen\, Bob Marley über Liedern von Songwritern wie Alela Delane\, Foy Vance\, bis hin zu seinen eigenen ausdrucksstarken deutschsprachigen Liedern. \nJedes Lied gestaltet der preisgekrönte Sänger zu einem unvergleichlichen Ereignis. Gerade noch weht einem bei einem Piratenlied der warme Wind der Südsee um die Nase\, verführt er einen sobald in die kalten Nächte der Großstadt\, danach zu einem intensiven\, intimen Liebeslied\, kurz darauf hört man die Wölfe der Wildnis heulen. \nJens Heckermann alias „Kauz“ schafft es so\, das Publikum auch mit Geschichten um diese Lieder zu einer einzigartigen\, fantastischen Gedankenreise in seinen Bann zu ziehen.  \nFanden die ersten Abende draußen statt\, transportiert er nun sein Programm „Wenn der Kauz singt“ auf die Theater\, -Kleinkunst- und Clubbühnen der Nation. \nBühne frei für „Einen der besten Sänger Deutschlands“ ( SZ ) \nJens Heckermann alias Kauz 
URL:https://kauz-online.de/event/lagerfeuerabend-wenn-der-kauz-singt/
LOCATION:Tübingen Sudhaus\, Hechinger Str. 203\, Tübingen\, Germany
ATTACH;FMTTYPE=image/jpeg:https://kauz-online.de/wp-content/uploads/2025/04/Kauz_DSC6428-scaled.jpg
END:VEVENT
BEGIN:VEVENT
DTSTART;TZID=UTC:20250625T200000
DTEND;TZID=UTC:20250625T220000
DTSTAMP:20260424T110500
CREATED:20250409T101937Z
LAST-MODIFIED:20250409T101937Z
UID:1201-1750881600-1750888800@kauz-online.de
SUMMARY:Hearts and Bones trifft Kauz
DESCRIPTION:Hearts and Bones trifft Kauz \n\nSind die Drei schon getrennt voneinander sensationell\, so vereinen sie sich hier in all ihrer Gegensätzlichkeit zur musikalischen Trikolore! \n\nStimmgewalt trifft auf feines Saitenspiel\, Sanftmut auf Rauheit\, Liebreiz auf Kauzigkeit\, Saiten auf Knöpfe\, Mondlicht auf Lagerfeuer… \nJens Heckermann (alias Kauz) und das Duo Hearts and Bones mit Biggi Binder und Barbara Gräsle berauschen ihre Gäste mit großer Instrumentenvielfalt und einer faszinierenden musikalischen Bandbreite\, die von irischen Traditionals über Seemannslieder bis hin zu spanischen Canciones reicht. \n\nHört hin!!
URL:https://kauz-online.de/event/hearts-and-bones-trifft-kauz/
LOCATION:Hofgut Mauren\, Mauren 9\, 71139 Ehningen
ATTACH;FMTTYPE=image/jpeg:https://kauz-online.de/wp-content/uploads/2024/10/P1022089_8b-scaled.jpg
END:VEVENT
BEGIN:VEVENT
DTSTART;TZID=UTC:20250508T200000
DTEND;TZID=UTC:20250508T230000
DTSTAMP:20260424T110500
CREATED:20250409T075225Z
LAST-MODIFIED:20250508T073141Z
UID:1189-1746734400-1746745200@kauz-online.de
SUMMARY:Lagerfeuerabend mit Kauz "Wenn der Kauz singt"
DESCRIPTION:Jens Heckermann „Wenn der Kauz singt“ \nEinem grösseren Publikum ist er bekannt als stimmgewaltiger Publikumsmagnet „Pelvis“ der bundesweit erfolgreichen A-Cappella Gruppe Füenf ( www.fuenf.com ). \nZeigt er sich bei Füenf auch von seiner Komikerseite\, tritt nun der Ausnahmesänger in den Vordergrund und es zieht ihn zu seinen Wurzeln zurück: Ein Mann\, eine Gitarre\, ein imaginäres Lagerfeuer und eine außergewöhnlich wandelbare Stimme\, die ihresgleichen sucht. \nWas er weiterhin mitbringt\, ist seine Leutseligkeit\, seine Liebe zu Geschichten und seine fulminante Stimme. \nIm Programm tummeln sich Seite an Seite\, Welthits von Tom Waits\, Robert Johnson\, Bruce Springsteen\, Bob Marley über Liedern von Songwritern wie Alela Delane\, Foy Vance\, bis hin zu seinen eigenen ausdrucksstarken deutschsprachigen Liedern. \nJedes Lied gestaltet der preisgekrönte Sänger zu einem unvergleichlichen Ereignis. Gerade noch weht einem bei einem Piratenlied der warme Wind der Südsee um die Nase\, verführt er einen sobald in die kalten Nächte der Großstadt\, danach zu einem intensiven\, intimen Liebeslied\, kurz darauf hört man die Wölfe der Wildnis heulen. \nJens Heckermann alias „Kauz“ schafft es so\, das Publikum auch mit Geschichten um diese Lieder zu einer einzigartigen\, fantastischen Gedankenreise in seinen Bann zu ziehen.  \nFanden die ersten Abende draußen statt\, transportiert er nun sein Programm „Wenn der Kauz singt“ auf die Theater\, -Kleinkunst- und Clubbühnen der Nation. \nBühne frei für „Einen der besten Sänger Deutschlands“ ( SZ ) \nJens Heckermann alias Kauz 
URL:https://kauz-online.de/event/lagerfeuerabend-mit-kauz-wenn-der-kauz-singt/
LOCATION:Tübingen Sudhaus\, Hechinger Str. 203\, Tübingen\, Germany
ATTACH;FMTTYPE=image/png:https://kauz-online.de/wp-content/uploads/2025/04/IMG_4028.png
END:VEVENT
BEGIN:VEVENT
DTSTART;TZID=UTC:20250110T200000
DTEND;TZID=UTC:20250110T223000
DTSTAMP:20260424T110500
CREATED:20241022T163530Z
LAST-MODIFIED:20241022T170720Z
UID:1093-1736539200-1736548200@kauz-online.de
SUMMARY:Hearts and Bones meet Kauz
DESCRIPTION:Hearts and Bones trifft Kauz \nSind die Drei schon getrennt voneinander sensationell\, so vereinen sie sich hier in all ihrer Gegensätzlichkeit zur musikalischen Trikolore! \nStimmgewalt trifft auf feines Saitenspiel\, Sanftmut auf Rauheit\, Liebreiz auf Kauzigkeit\, Saiten auf Knöpfe\, Mondlicht auf Lagerfeuer… \nJens Heckermann (alias Kauz) und das Duo Hearts and Bones mit Biggi Binder und Barbara Gräsle berauschen ihre Gäste mit großer Instrumentenvielfalt und einer faszinierenden musikalischen Bandbreite\, die von irischen Traditionals über Seemannslieder bis hin zu spanischen Canciones reicht. \nHört hin!!
URL:https://kauz-online.de/event/hearts-and-bones-meet-kauz/
LOCATION:Hirsch Glems\, Gasthaus Hirsch Eninger Strasse 11\, Metzingen / Glems\, 72555\, Germany
ORGANIZER;CN="Hirsch Glems":MAILTO:info@zbglems.de
END:VEVENT
END:VCALENDAR