BEGIN:VCALENDAR
VERSION:2.0
PRODID:-//KAUZ - ECPv6.15.20//NONSGML v1.0//EN
CALSCALE:GREGORIAN
METHOD:PUBLISH
X-ORIGINAL-URL:https://kauz-online.de
X-WR-CALDESC:Veranstaltungen für KAUZ
REFRESH-INTERVAL;VALUE=DURATION:PT1H
X-Robots-Tag:noindex
X-PUBLISHED-TTL:PT1H
BEGIN:VTIMEZONE
TZID:UTC
BEGIN:STANDARD
TZOFFSETFROM:+0000
TZOFFSETTO:+0000
TZNAME:UTC
DTSTART:20250101T000000
END:STANDARD
END:VTIMEZONE
BEGIN:VEVENT
DTSTART;TZID=UTC:20261128T200000
DTEND;TZID=UTC:20261128T220000
DTSTAMP:20260420T163934
CREATED:20250413T074014Z
LAST-MODIFIED:20250413T074014Z
UID:1220-1795896000-1795903200@kauz-online.de
SUMMARY:Zum Fröhlichen Nix - Blaubeuren " Wenn der Kauz singt "
DESCRIPTION:Jens Heckermann „Wenn der Kauz singt“ \nEinem grösseren Publikum ist er bekannt als stimmgewaltiger Publikumsmagnet „Pelvis“ der bundesweit erfolgreichen A-Cappella Gruppe Füenf ( www.fuenf.com ). \nZeigt er sich bei Füenf auch von seiner Komikerseite\, tritt nun der Ausnahmesänger in den Vordergrund und es zieht ihn zu seinen Wurzeln zurück: Ein Mann\, eine Gitarre\, ein imaginäres Lagerfeuer und eine außergewöhnlich wandelbare Stimme\, die ihresgleichen sucht. \nWas er weiterhin mitbringt\, ist seine Leutseligkeit\, seine Liebe zu Geschichten und seine fulminante Stimme. \nIm Programm tummeln sich Seite an Seite\, Welthits von Tom Waits\, Robert Johnson\, Bruce Springsteen\, Bob Marley über Liedern von Songwritern wie Alela Delane\, Foy Vance\, bis hin zu seinen eigenen ausdrucksstarken deutschsprachigen Liedern. \nJedes Lied gestaltet der preisgekrönte Sänger zu einem unvergleichlichen Ereignis. Gerade noch weht einem bei einem Piratenlied der warme Wind der Südsee um die Nase\, verführt er einen sobald in die kalten Nächte der Großstadt\, danach zu einem intensiven\, intimen Liebeslied\, kurz darauf hört man die Wölfe der Wildnis heulen. \nJens Heckermann alias „Kauz“ schafft es so\, das Publikum auch mit Geschichten um diese Lieder zu einer einzigartigen\, fantastischen Gedankenreise in seinen Bann zu ziehen. \nFanden die ersten Abende draußen statt\, transportiert er nun sein Programm „Wenn der Kauz singt“ auf die Theater\, -Kleinkunst- und Clubbühnen der Nation. \nBühne frei für „Einen der besten Sänger Deutschlands“ ( SZ ) \nJens Heckermann alias Kauz
URL:https://kauz-online.de/event/zum-froehlichen-nix-blaubeuren-wenn-der-kauz-singt/
ATTACH;FMTTYPE=image/jpeg:https://kauz-online.de/wp-content/uploads/2025/04/Kauz_DSC6428-scaled.jpg
END:VEVENT
END:VCALENDAR